BEGIN:VCALENDAR
VERSION:2.0
PRODID:-//wp-events-plugin.com//7.2.3.1//EN
BEGIN:VEVENT
UID:2@8qpayments.com
DTSTART:20250617T000000Z
DTEND:20250617T000000Z
DTSTAMP:20250611T181228Z
URL:https://8qpayments.com/events/scheduled-maintenance/
SUMMARY:Scheduled Maintenance
DESCRIPTION:Our services will be temporarily unavailable for system upgrade
 s from 1:00 AM to 3:00 AM on June 17.
ATTACH;FMTTYPE=image/jpeg:https://8qpayments.com/wp-content/uploads/2025/0
 6/events-1.jpg
END:VEVENT
END:VCALENDAR